BEGIN:VCALENDAR
VERSION:2.0
CALSCALE:GREGORIAN
PRODID:-//Diputació de Barcelona//DibaCMS//EN
BEGIN:VEVENT
UID:11047
DTSTAMP:20260419T214827
DTSTART:20250923T000000
DTEND:20250928T000000
SUMMARY:Festa Major de la Mercè
LOCATION:
METHOD:PUBLISH
X-WR-CALNAME:vallgorguina@vallgorguina.cat
X-WR-TIMEZONE:Europe/Madrid
DESCRIPTION:Consulta la programació prevista, clica l'enllaç

URI:https://www.vallgorguina.cat/actualitat/agenda/festa-major-de-la-merce.html
CLASS:PUBLIC
END:VEVENT
END:VCALENDAR
