BEGIN:VCALENDAR
VERSION:2.0
CALSCALE:GREGORIAN
PRODID:-//Diputació de Barcelona//DibaCMS//EN
BEGIN:VEVENT
UID:11049
DTSTAMP:20260420T001925
DTSTART:20250726T170000
DTEND:20250726T220000
SUMMARY:Tobogan aquàtic gegant, tapes i música
LOCATION:Carrer Pi Florit i plaça de la Vila 
METHOD:PUBLISH
X-WR-CALNAME:vallgorguina@vallgorguina.cat
X-WR-TIMEZONE:Europe/Madrid
DESCRIPTION:
URI:https://www.vallgorguina.cat/actualitat/agenda/tobogan-aquatic-gegant-tapes-i-musica.html
CLASS:PUBLIC
END:VEVENT
END:VCALENDAR
