BEGIN:VCALENDAR
VERSION:2.0
CALSCALE:GREGORIAN
PRODID:-//Diputació de Barcelona//DibaCMS//EN
BEGIN:VEVENT
UID:11051
DTSTAMP:20260420T013517
DTSTART:20250730T140000
DTEND:20250730T150000
SUMMARY:Junta Govern Local 
LOCATION:Plaça de la Vila, 4 
METHOD:PUBLISH
X-WR-CALNAME:vallgorguina@vallgorguina.cat
X-WR-TIMEZONE:Europe/Madrid
DESCRIPTION:
URI:https://www.vallgorguina.cat/actualitat/agenda/11051-junta-govern-local-.html
CLASS:PUBLIC
END:VEVENT
END:VCALENDAR
