BEGIN:VCALENDAR
VERSION:2.0
CALSCALE:GREGORIAN
PRODID:-//Diputació de Barcelona//DibaCMS//EN
BEGIN:VEVENT
UID:11052
DTSTAMP:20260420T015208
DTSTART:20250809T210000
DTEND:20250809T210000
SUMMARY:VallgorQuina Musical
LOCATION:Carrer de l'Església, 15 08471 Vallgorguina
METHOD:PUBLISH
X-WR-CALNAME:vallgorguina@vallgorguina.cat
X-WR-TIMEZONE:Europe/Madrid
DESCRIPTION:
URI:https://www.vallgorguina.cat/actualitat/agenda/vallgorquina-musical.html
CLASS:PUBLIC
END:VEVENT
END:VCALENDAR
