BEGIN:VCALENDAR
VERSION:2.0
CALSCALE:GREGORIAN
PRODID:-//Diputació de Barcelona//DibaCMS//EN
BEGIN:VEVENT
UID:11055
DTSTAMP:20260419T235515
DTSTART:20250822T220000
DTEND:20250822T220000
SUMMARY:Cinema a la fresca
LOCATION:Poliesportiu 
METHOD:PUBLISH
X-WR-CALNAME:vallgorguina@vallgorguina.cat
X-WR-TIMEZONE:Europe/Madrid
DESCRIPTION:
URI:https://www.vallgorguina.cat/actualitat/agenda/11055-cinema-a-la-fresca.html
CLASS:PUBLIC
END:VEVENT
END:VCALENDAR
