BEGIN:VCALENDAR
VERSION:2.0
CALSCALE:GREGORIAN
PRODID:-//Diputació de Barcelona//DibaCMS//EN
BEGIN:VEVENT
UID:11060
DTSTAMP:20260422T190438
DTSTART:20251122T000000
DTEND:20251123T210000
SUMMARY:Fira del Bosc i la Pagesia
LOCATION:
METHOD:PUBLISH
X-WR-CALNAME:vallgorguina@vallgorguina.cat
X-WR-TIMEZONE:Europe/Madrid
DESCRIPTION:
URI:https://www.vallgorguina.cat/actualitat/agenda/11060-fira-del-bosc-i-la-pagesia.html
CLASS:PUBLIC
END:VEVENT
END:VCALENDAR
