BEGIN:VCALENDAR
VERSION:2.0
CALSCALE:GREGORIAN
PRODID:-//Diputació de Barcelona//DibaCMS//EN
BEGIN:VEVENT
UID:11069
DTSTAMP:20260419T213007
DTSTART:20250927T200000
DTEND:20250927T200000
SUMMARY:Teatre "Casats per amor... a la pasta"
LOCATION:
METHOD:PUBLISH
X-WR-CALNAME:vallgorguina@vallgorguina.cat
X-WR-TIMEZONE:Europe/Madrid
DESCRIPTION:
URI:https://www.vallgorguina.cat/actualitat/agenda/11069-teatre-casats-per-amor-a-la-pasta.html
CLASS:PUBLIC
END:VEVENT
END:VCALENDAR
