BEGIN:VCALENDAR
VERSION:2.0
CALSCALE:GREGORIAN
PRODID:-//Diputació de Barcelona//DibaCMS//EN
BEGIN:VEVENT
UID:11070
DTSTAMP:20260419T221456
DTSTART:20250906T160000
DTEND:20250906T200000
SUMMARY:Espai Jove La Llàntia
LOCATION:
METHOD:PUBLISH
X-WR-CALNAME:vallgorguina@vallgorguina.cat
X-WR-TIMEZONE:Europe/Madrid
DESCRIPTION:
URI:https://www.vallgorguina.cat/actualitat/agenda/espai-jove-la-llantia.html
CLASS:PUBLIC
END:VEVENT
END:VCALENDAR
