BEGIN:VCALENDAR
VERSION:2.0
CALSCALE:GREGORIAN
PRODID:-//Diputació de Barcelona//DibaCMS//EN
BEGIN:VEVENT
UID:11077
DTSTAMP:20260420T001631
DTSTART:20251004T173000
DTEND:20251004T173000
SUMMARY:Premi de poesia Mn. Narcís Saguer
LOCATION:Sala d'Exposicions L'Iglú 
METHOD:PUBLISH
X-WR-CALNAME:vallgorguina@vallgorguina.cat
X-WR-TIMEZONE:Europe/Madrid
DESCRIPTION:
URI:https://www.vallgorguina.cat/actualitat/agenda/11077-premi-de-poesia-mn-narcis-saguer.html
CLASS:PUBLIC
END:VEVENT
END:VCALENDAR
