BEGIN:VCALENDAR
VERSION:2.0
CALSCALE:GREGORIAN
PRODID:-//Diputació de Barcelona//DibaCMS//EN
BEGIN:VEVENT
UID:11078
DTSTAMP:20260419T221722
DTSTART:20250921T120000
DTEND:20250921T120000
SUMMARY:39a Trobada de Gegants "40 anys"
LOCATION:Plaça de la Vila 
METHOD:PUBLISH
X-WR-CALNAME:vallgorguina@vallgorguina.cat
X-WR-TIMEZONE:Europe/Madrid
DESCRIPTION:
URI:https://www.vallgorguina.cat/actualitat/agenda/39a-trobada-de-gegants-40-anys.html
CLASS:PUBLIC
END:VEVENT
END:VCALENDAR
