BEGIN:VCALENDAR
VERSION:2.0
CALSCALE:GREGORIAN
PRODID:-//Diputació de Barcelona//DibaCMS//EN
BEGIN:VEVENT
UID:11080
DTSTAMP:20260419T233039
DTSTART:20250920T090000
DTEND:20250921T090000
SUMMARY:Petanca i dominó FM Mercè
LOCATION:
METHOD:PUBLISH
X-WR-CALNAME:vallgorguina@vallgorguina.cat
X-WR-TIMEZONE:Europe/Madrid
DESCRIPTION:
URI:https://www.vallgorguina.cat/actualitat/agenda/petanca-i-domino-fm-merce.html
CLASS:PUBLIC
END:VEVENT
END:VCALENDAR
