BEGIN:VCALENDAR
VERSION:2.0
CALSCALE:GREGORIAN
PRODID:-//Diputació de Barcelona//DibaCMS//EN
BEGIN:VEVENT
UID:11094
DTSTAMP:20260419T233132
DTSTART:20250929T000000
DTEND:20250929T000000
SUMMARY:Dia mundial del Cor
LOCATION:
METHOD:PUBLISH
X-WR-CALNAME:vallgorguina@vallgorguina.cat
X-WR-TIMEZONE:Europe/Madrid
DESCRIPTION:
URI:https://www.vallgorguina.cat/actualitat/agenda/dia-mundial-del-cor.html
CLASS:PUBLIC
END:VEVENT
END:VCALENDAR
