BEGIN:VCALENDAR
VERSION:2.0
CALSCALE:GREGORIAN
PRODID:-//Diputació de Barcelona//DibaCMS//EN
BEGIN:VEVENT
UID:11139
DTSTAMP:20260419T221820
DTSTART:20251130T120000
DTEND:20251130T120000
SUMMARY:Missa solemne - FM St. Andreu
LOCATION:Església Sant Andreu de Vallgorguina 
METHOD:PUBLISH
X-WR-CALNAME:vallgorguina@vallgorguina.cat
X-WR-TIMEZONE:Europe/Madrid
DESCRIPTION:
URI:https://www.vallgorguina.cat/actualitat/agenda/missa-solemne-fm-st-andreu.html
CLASS:PUBLIC
END:VEVENT
END:VCALENDAR
