BEGIN:VCALENDAR
VERSION:2.0
CALSCALE:GREGORIAN
PRODID:-//Diputació de Barcelona//DibaCMS//EN
BEGIN:VEVENT
UID:11140
DTSTAMP:20260419T200200
DTSTART:20251115T090000
DTEND:20251115T090000
SUMMARY:Final 14è Torneig Petanca Baix Montseny
LOCATION:Aparcament Ctra. Mataró (davant consultori mèdic) 
METHOD:PUBLISH
X-WR-CALNAME:vallgorguina@vallgorguina.cat
X-WR-TIMEZONE:Europe/Madrid
DESCRIPTION:
URI:https://www.vallgorguina.cat/actualitat/agenda/final-14e-torneig-petanca-baix-montseny.html
CLASS:PUBLIC
END:VEVENT
END:VCALENDAR
