BEGIN:VCALENDAR
VERSION:2.0
CALSCALE:GREGORIAN
PRODID:-//Diputació de Barcelona//DibaCMS//EN
BEGIN:VEVENT
UID:11183
DTSTAMP:20260419T183241
DTSTART:20260105T163000
DTEND:20260105T200000
SUMMARY:Cavalcada Vallgorguina 2026
LOCATION:
METHOD:PUBLISH
X-WR-CALNAME:vallgorguina@vallgorguina.cat
X-WR-TIMEZONE:Europe/Madrid
DESCRIPTION:
URI:https://www.vallgorguina.cat/actualitat/agenda/cavalcada-vallgorguina-2026.html
CLASS:PUBLIC
END:VEVENT
END:VCALENDAR
