BEGIN:VCALENDAR
VERSION:2.0
CALSCALE:GREGORIAN
PRODID:-//Diputació de Barcelona//DibaCMS//EN
BEGIN:VEVENT
UID:11218
DTSTAMP:20260421T162957
DTSTART:20260304T160000
DTEND:20260304T163000
SUMMARY:Junta Govern Local 
LOCATION:
METHOD:PUBLISH
X-WR-CALNAME:vallgorguina@vallgorguina.cat
X-WR-TIMEZONE:Europe/Madrid
DESCRIPTION:
URI:https://www.vallgorguina.cat/actualitat/agenda/11218-junta-govern-local-.html
CLASS:PUBLIC
END:VEVENT
END:VCALENDAR
