BEGIN:VCALENDAR
VERSION:2.0
CALSCALE:GREGORIAN
PRODID:-//Diputació de Barcelona//DibaCMS//EN
BEGIN:VEVENT
UID:11325
DTSTAMP:20260425T173100
DTSTART:20260510T080000
DTEND:20260510T140000
SUMMARY:X Trail Series Run: Trail Run
LOCATION:
METHOD:PUBLISH
X-WR-CALNAME:vallgorguina@vallgorguina.cat
X-WR-TIMEZONE:Europe/Madrid
DESCRIPTION:
URI:https://www.vallgorguina.cat/actualitat/agenda/x-trail-series-run-trail-run.html
CLASS:PUBLIC
END:VEVENT
END:VCALENDAR
