BEGIN:VCALENDAR
VERSION:2.0
CALSCALE:GREGORIAN
PRODID:-//Diputació de Barcelona//DibaCMS//EN
BEGIN:VEVENT
UID:571
DTSTAMP:20260422T125336
DTSTART:20170708T170000
DTEND:20170708T190000
SUMMARY:Final del campionat de petanca del Baix Montseny
LOCATION:Xeremell 
METHOD:PUBLISH
X-WR-CALNAME:vallgorguina@vallgorguina.cat
X-WR-TIMEZONE:Europe/Madrid
DESCRIPTION:
URI:https://www.vallgorguina.cat/actualitat/agenda/final-del-campionat-de-petanca-del-baix-montseny.html
CLASS:PUBLIC
END:VEVENT
END:VCALENDAR
