BEGIN:VCALENDAR
VERSION:2.0
CALSCALE:GREGORIAN
PRODID:-//Diputació de Barcelona//DibaCMS//EN
BEGIN:VEVENT
UID:575
DTSTAMP:20260422T125419
DTSTART:20170722T090000
DTEND:20170722T230000
SUMMARY:Festa major Collsacreu
LOCATION:
METHOD:PUBLISH
X-WR-CALNAME:vallgorguina@vallgorguina.cat
X-WR-TIMEZONE:Europe/Madrid
DESCRIPTION:
URI:https://www.vallgorguina.cat/actualitat/agenda/festa-major-collsacreu.html
CLASS:PUBLIC
END:VEVENT
END:VCALENDAR
