BEGIN:VCALENDAR
VERSION:2.0
CALSCALE:GREGORIAN
PRODID:-//Diputació de Barcelona//DibaCMS//EN
BEGIN:VEVENT
UID:576
DTSTAMP:20260420T090138
DTSTART:20170717T180000
DTEND:20170717T200000
SUMMARY:Cinema infantil
LOCATION:
METHOD:PUBLISH
X-WR-CALNAME:vallgorguina@vallgorguina.cat
X-WR-TIMEZONE:Europe/Madrid
DESCRIPTION:
URI:https://www.vallgorguina.cat/actualitat/agenda/576-cinema-infantil.html
CLASS:PUBLIC
END:VEVENT
END:VCALENDAR
