BEGIN:VCALENDAR
VERSION:2.0
CALSCALE:GREGORIAN
PRODID:-//Diputació de Barcelona//DibaCMS//EN
BEGIN:VEVENT
UID:583
DTSTAMP:20260422T111029
DTSTART:20170826T220000
DTEND:20170827T020000
SUMMARY:Festa fi d'estiu
LOCATION:
METHOD:PUBLISH
X-WR-CALNAME:vallgorguina@vallgorguina.cat
X-WR-TIMEZONE:Europe/Madrid
DESCRIPTION:
URI:https://www.vallgorguina.cat/actualitat/agenda/583-festa-fi-destiu.html
CLASS:PUBLIC
END:VEVENT
END:VCALENDAR
