BEGIN:VCALENDAR
VERSION:2.0
CALSCALE:GREGORIAN
PRODID:-//Diputació de Barcelona//DibaCMS//EN
BEGIN:VEVENT
UID:585
DTSTAMP:20260420T084914
DTSTART:20170620T181500
DTEND:20170620T191500
SUMMARY:Espectacle de titelles i contes
LOCATION:
METHOD:PUBLISH
X-WR-CALNAME:vallgorguina@vallgorguina.cat
X-WR-TIMEZONE:Europe/Madrid
DESCRIPTION:
URI:https://www.vallgorguina.cat/actualitat/agenda/espectacle-de-titelles-i-contes.html
CLASS:PUBLIC
END:VEVENT
END:VCALENDAR
