BEGIN:VCALENDAR
VERSION:2.0
CALSCALE:GREGORIAN
PRODID:-//Diputació de Barcelona//DibaCMS//EN
BEGIN:VEVENT
UID:591
DTSTAMP:20260420T071711
DTSTART:20170708T180000
DTEND:20170708T200000
SUMMARY:Nit de ratpenats 
LOCATION:
METHOD:PUBLISH
X-WR-CALNAME:vallgorguina@vallgorguina.cat
X-WR-TIMEZONE:Europe/Madrid
DESCRIPTION:
URI:https://www.vallgorguina.cat/actualitat/agenda/nit-de-ratpenats-.html
CLASS:PUBLIC
END:VEVENT
END:VCALENDAR
