BEGIN:VCALENDAR
VERSION:2.0
CALSCALE:GREGORIAN
PRODID:-//Diputació de Barcelona//DibaCMS//EN
BEGIN:VEVENT
UID:592
DTSTAMP:20260420T072522
DTSTART:20170708T190000
DTEND:20170708T210000
SUMMARY:Col·loqui "El perquè del Sí"
LOCATION:
METHOD:PUBLISH
X-WR-CALNAME:vallgorguina@vallgorguina.cat
X-WR-TIMEZONE:Europe/Madrid
DESCRIPTION:
URI:https://www.vallgorguina.cat/actualitat/agenda/colloqui-el-perque-del-si.html
CLASS:PUBLIC
END:VEVENT
END:VCALENDAR
