BEGIN:VCALENDAR
VERSION:2.0
CALSCALE:GREGORIAN
PRODID:-//Diputació de Barcelona//DibaCMS//EN
BEGIN:VEVENT
UID:593
DTSTAMP:20260422T111050
DTSTART:20170708T200000
DTEND:20170708T220000
SUMMARY:Sardinada popular
LOCATION:
METHOD:PUBLISH
X-WR-CALNAME:vallgorguina@vallgorguina.cat
X-WR-TIMEZONE:Europe/Madrid
DESCRIPTION:
URI:https://www.vallgorguina.cat/actualitat/agenda/sardinada-popular.html
CLASS:PUBLIC
END:VEVENT
END:VCALENDAR
