BEGIN:VCALENDAR
VERSION:2.0
CALSCALE:GREGORIAN
PRODID:-//Diputació de Barcelona//DibaCMS//EN
BEGIN:VEVENT
UID:608
DTSTAMP:20260422T111115
DTSTART:20170805T000000
DTEND:20170806T230000
SUMMARY:Exposició de pintures de Joan Artigas
LOCATION:
METHOD:PUBLISH
X-WR-CALNAME:vallgorguina@vallgorguina.cat
X-WR-TIMEZONE:Europe/Madrid
DESCRIPTION:
URI:https://www.vallgorguina.cat/actualitat/agenda/608-exposicio-de-pintures-de-joan-artigas.html
CLASS:PUBLIC
END:VEVENT
END:VCALENDAR
