BEGIN:VCALENDAR
VERSION:2.0
CALSCALE:GREGORIAN
PRODID:-//Diputació de Barcelona//DibaCMS//EN
BEGIN:VEVENT
UID:614
DTSTAMP:20260422T204628
DTSTART:20170808T070000
DTEND:20170808T220000
SUMMARY:Sortida mes d'agost El Caliu
LOCATION:
METHOD:PUBLISH
X-WR-CALNAME:vallgorguina@vallgorguina.cat
X-WR-TIMEZONE:Europe/Madrid
DESCRIPTION:
URI:https://www.vallgorguina.cat/actualitat/agenda/sortida-mes-dagost-el-caliu.html
CLASS:PUBLIC
END:VEVENT
END:VCALENDAR
