BEGIN:VCALENDAR
VERSION:2.0
CALSCALE:GREGORIAN
PRODID:-//Diputació de Barcelona//DibaCMS//EN
BEGIN:VEVENT
UID:636
DTSTAMP:20260422T145739
DTSTART:20170914T183000
DTEND:20170914T210000
SUMMARY:Presentació del Pla d'ordenació urbanística municipal de Vallgorguina (POUM)
LOCATION:
METHOD:PUBLISH
X-WR-CALNAME:vallgorguina@vallgorguina.cat
X-WR-TIMEZONE:Europe/Madrid
DESCRIPTION:
URI:https://www.vallgorguina.cat/actualitat/agenda/presentacio-del-pla-dordenacio-urbanistica-municipal-de-vallgorguina-poum.html
CLASS:PUBLIC
END:VEVENT
END:VCALENDAR
