BEGIN:VCALENDAR
VERSION:2.0
CALSCALE:GREGORIAN
PRODID:-//Diputació de Barcelona//DibaCMS//EN
BEGIN:VEVENT
UID:647
DTSTAMP:20260422T184016
DTSTART:20171007T190000
DTEND:20171007T210000
SUMMARY:Voleu aprendre a caçar bolets? Veniu al Museu del bosc i la pagesia de Vallgorguina, el dia 7 d'octubre i us n'ensenyarem.
LOCATION:
METHOD:PUBLISH
X-WR-CALNAME:vallgorguina@vallgorguina.cat
X-WR-TIMEZONE:Europe/Madrid
DESCRIPTION:
URI:https://www.vallgorguina.cat/actualitat/agenda/voleu-aprendre-a-cacar-bolets-veniu-al-museu-del-bosc-i-la-pagesia-de-vallgorguina-el-dia-7-doctubre-i-us-nensenyarem.html
CLASS:PUBLIC
END:VEVENT
END:VCALENDAR
