BEGIN:VCALENDAR
VERSION:2.0
CALSCALE:GREGORIAN
PRODID:-//Diputació de Barcelona//DibaCMS//EN
BEGIN:VEVENT
UID:650
DTSTAMP:20260422T145753
DTSTART:20170927T000000
DTEND:20170927T000000
SUMMARY:Sessió de contes i històries
LOCATION:
METHOD:PUBLISH
X-WR-CALNAME:vallgorguina@vallgorguina.cat
X-WR-TIMEZONE:Europe/Madrid
DESCRIPTION:Atenció famílies, el proper dimarts dia 3 d'octubre, a les 5h de la tarda a la Sala d'exposicions, sessió dedicada a explicar contes i històries pels petits i també pels grans.

No us ho deixeu perdre!

URI:https://www.vallgorguina.cat/actualitat/agenda/sessio-de-contes-i-histories.html
CLASS:PUBLIC
END:VEVENT
END:VCALENDAR
