BEGIN:VCALENDAR
VERSION:2.0
CALSCALE:GREGORIAN
PRODID:-//Diputació de Barcelona//DibaCMS//EN
BEGIN:VEVENT
UID:667
DTSTAMP:20260422T205350
DTSTART:20171028T163000
DTEND:20171028T200000
SUMMARY:Castanyada a Baronia
LOCATION:
METHOD:PUBLISH
X-WR-CALNAME:vallgorguina@vallgorguina.cat
X-WR-TIMEZONE:Europe/Madrid
DESCRIPTION:
URI:https://www.vallgorguina.cat/actualitat/agenda/castanyada-a-baronia.html
CLASS:PUBLIC
END:VEVENT
END:VCALENDAR
