BEGIN:VCALENDAR
VERSION:2.0
CALSCALE:GREGORIAN
PRODID:-//Diputació de Barcelona//DibaCMS//EN
BEGIN:VEVENT
UID:670
DTSTAMP:20260422T164744
DTSTART:20171016T190000
DTEND:20171016T210000
SUMMARY:Ple ordinari
LOCATION:
METHOD:PUBLISH
X-WR-CALNAME:vallgorguina@vallgorguina.cat
X-WR-TIMEZONE:Europe/Madrid
DESCRIPTION:
URI:https://www.vallgorguina.cat/actualitat/agenda/670-ple-ordinari.html
CLASS:PUBLIC
END:VEVENT
END:VCALENDAR
