BEGIN:VCALENDAR
VERSION:2.0
CALSCALE:GREGORIAN
PRODID:-//Diputació de Barcelona//DibaCMS//EN
BEGIN:VEVENT
UID:673
DTSTAMP:20260422T205322
DTSTART:20171031T173000
DTEND:20171031T190000
SUMMARY:Nit de bruixes
LOCATION:
METHOD:PUBLISH
X-WR-CALNAME:vallgorguina@vallgorguina.cat
X-WR-TIMEZONE:Europe/Madrid
DESCRIPTION:
URI:https://www.vallgorguina.cat/actualitat/agenda/nit-de-bruixes.html
CLASS:PUBLIC
END:VEVENT
END:VCALENDAR
