BEGIN:VCALENDAR
VERSION:2.0
CALSCALE:GREGORIAN
PRODID:-//Diputació de Barcelona//DibaCMS//EN
BEGIN:VEVENT
UID:678
DTSTAMP:20260422T183948
DTSTART:20171025T190000
DTEND:20171025T190500
SUMMARY:Ple extraordinari
LOCATION:
METHOD:PUBLISH
X-WR-CALNAME:vallgorguina@vallgorguina.cat
X-WR-TIMEZONE:Europe/Madrid
DESCRIPTION:Moció per aturar la suspensió de l'autonomia de Catalunya 

URI:https://www.vallgorguina.cat/actualitat/agenda/ple-extraordinari.html
CLASS:PUBLIC
END:VEVENT
END:VCALENDAR
