BEGIN:VCALENDAR
VERSION:2.0
CALSCALE:GREGORIAN
PRODID:-//Diputació de Barcelona//DibaCMS//EN
BEGIN:VEVENT
UID:682
DTSTAMP:20260422T164703
DTSTART:20171107T170000
DTEND:20171107T190000
SUMMARY:Laboratori de lletres i imatges Naturalistes
LOCATION:
METHOD:PUBLISH
X-WR-CALNAME:vallgorguina@vallgorguina.cat
X-WR-TIMEZONE:Europe/Madrid
DESCRIPTION:
URI:https://www.vallgorguina.cat/actualitat/agenda/laboratori-de-lletres-i-imatges-naturalistes.html
CLASS:PUBLIC
END:VEVENT
END:VCALENDAR
