BEGIN:VCALENDAR
VERSION:2.0
CALSCALE:GREGORIAN
PRODID:-//Diputació de Barcelona//DibaCMS//EN
BEGIN:VEVENT
UID:689
DTSTAMP:20260422T205035
DTSTART:20171202T130000
DTEND:20171202T170000
SUMMARY:Calçotada a Canadà Parc
LOCATION:
METHOD:PUBLISH
X-WR-CALNAME:vallgorguina@vallgorguina.cat
X-WR-TIMEZONE:Europe/Madrid
DESCRIPTION:
URI:https://www.vallgorguina.cat/actualitat/agenda/calcotada-a-canada-parc.html
CLASS:PUBLIC
END:VEVENT
END:VCALENDAR
