BEGIN:VCALENDAR
VERSION:2.0
CALSCALE:GREGORIAN
PRODID:-//Diputació de Barcelona//DibaCMS//EN
BEGIN:VEVENT
UID:697
DTSTAMP:20260422T205202
DTSTART:20171125T100000
DTEND:20171126T200000
SUMMARY:Exposició de José Luis Chavero
LOCATION:
METHOD:PUBLISH
X-WR-CALNAME:vallgorguina@vallgorguina.cat
X-WR-TIMEZONE:Europe/Madrid
DESCRIPTION:
URI:https://www.vallgorguina.cat/actualitat/agenda/exposicio-de-jose-luis-chavero.html
CLASS:PUBLIC
END:VEVENT
END:VCALENDAR
