BEGIN:VCALENDAR
VERSION:2.0
CALSCALE:GREGORIAN
PRODID:-//Diputació de Barcelona//DibaCMS//EN
BEGIN:VEVENT
UID:701
DTSTAMP:20260422T202741
DTSTART:20171125T110000
DTEND:20171126T200000
SUMMARY:Exposició: Encara no ens hem perdut. De Xavier Llistosella 
LOCATION:
METHOD:PUBLISH
X-WR-CALNAME:vallgorguina@vallgorguina.cat
X-WR-TIMEZONE:Europe/Madrid
DESCRIPTION:
URI:https://www.vallgorguina.cat/actualitat/agenda/exposicio-encara-no-ens-hem-perdut-de-xavier-llistosella-.html
CLASS:PUBLIC
END:VEVENT
END:VCALENDAR
