BEGIN:VCALENDAR
VERSION:2.0
CALSCALE:GREGORIAN
PRODID:-//Diputació de Barcelona//DibaCMS//EN
BEGIN:VEVENT
UID:704
DTSTAMP:20260423T004031
DTSTART:20171230T180000
DTEND:20171230T210000
SUMMARY:Pessebre vivent 
LOCATION:
METHOD:PUBLISH
X-WR-CALNAME:vallgorguina@vallgorguina.cat
X-WR-TIMEZONE:Europe/Madrid
DESCRIPTION:
URI:https://www.vallgorguina.cat/actualitat/agenda/pessebre-vivent-.html
CLASS:PUBLIC
END:VEVENT
END:VCALENDAR
