BEGIN:VCALENDAR
VERSION:2.0
CALSCALE:GREGORIAN
PRODID:-//Diputació de Barcelona//DibaCMS//EN
BEGIN:VEVENT
UID:709
DTSTAMP:20260422T224517
DTSTART:20171202T103000
DTEND:20171202T160000
SUMMARY:Fira de nadal Escola Waldorf 
LOCATION:
METHOD:PUBLISH
X-WR-CALNAME:vallgorguina@vallgorguina.cat
X-WR-TIMEZONE:Europe/Madrid
DESCRIPTION:
URI:https://www.vallgorguina.cat/actualitat/agenda/fira-de-nadal-escola-waldorf-.html
CLASS:PUBLIC
END:VEVENT
END:VCALENDAR
