BEGIN:VCALENDAR
VERSION:2.0
CALSCALE:GREGORIAN
PRODID:-//Diputació de Barcelona//DibaCMS//EN
BEGIN:VEVENT
UID:715
DTSTAMP:20260423T170316
DTSTART:20171217T084500
DTEND:20171217T120000
SUMMARY:Canadà Parc amb La Marató 
LOCATION:
METHOD:PUBLISH
X-WR-CALNAME:vallgorguina@vallgorguina.cat
X-WR-TIMEZONE:Europe/Madrid
DESCRIPTION:
URI:https://www.vallgorguina.cat/actualitat/agenda/canada-parc-amb-la-marato-.html
CLASS:PUBLIC
END:VEVENT
END:VCALENDAR
