BEGIN:VCALENDAR
VERSION:2.0
CALSCALE:GREGORIAN
PRODID:-//Diputació de Barcelona//DibaCMS//EN
BEGIN:VEVENT
UID:720
DTSTAMP:20260422T205126
DTSTART:20171205T170000
DTEND:20171205T200000
SUMMARY:Sessió de contes a la Sala d'exposicions
LOCATION:
METHOD:PUBLISH
X-WR-CALNAME:vallgorguina@vallgorguina.cat
X-WR-TIMEZONE:Europe/Madrid
DESCRIPTION:
URI:https://www.vallgorguina.cat/actualitat/agenda/sessio-de-contes-a-la-sala-dexposicions.html
CLASS:PUBLIC
END:VEVENT
END:VCALENDAR
