BEGIN:VCALENDAR
VERSION:2.0
CALSCALE:GREGORIAN
PRODID:-//Diputació de Barcelona//DibaCMS//EN
BEGIN:VEVENT
UID:728
DTSTAMP:20260423T043425
DTSTART:20171215T153000
DTEND:20171215T170000
SUMMARY:Xerrada "Bases per una alimentació saludable" a l'escola Waldorf
LOCATION:
METHOD:PUBLISH
X-WR-CALNAME:vallgorguina@vallgorguina.cat
X-WR-TIMEZONE:Europe/Madrid
DESCRIPTION:
URI:https://www.vallgorguina.cat/actualitat/agenda/xerrada-bases-per-una-alimentacio-saludable-a-lescola-waldorf.html
CLASS:PUBLIC
END:VEVENT
END:VCALENDAR
