BEGIN:VCALENDAR
VERSION:2.0
CALSCALE:GREGORIAN
PRODID:-//Diputació de Barcelona//DibaCMS//EN
BEGIN:VEVENT
UID:730
DTSTAMP:20260422T205236
DTSTART:20171216T170000
DTEND:20171216T190000
SUMMARY:Festa de prenadal al Caliu
LOCATION:
METHOD:PUBLISH
X-WR-CALNAME:vallgorguina@vallgorguina.cat
X-WR-TIMEZONE:Europe/Madrid
DESCRIPTION:
URI:https://www.vallgorguina.cat/actualitat/agenda/festa-de-prenadal-al-caliu.html
CLASS:PUBLIC
END:VEVENT
END:VCALENDAR
