BEGIN:VCALENDAR
VERSION:2.0
CALSCALE:GREGORIAN
PRODID:-//Diputació de Barcelona//DibaCMS//EN
BEGIN:VEVENT
UID:7311
DTSTAMP:20260423T080715
DTSTART:20180609T000000
DTEND:20180610T000000
SUMMARY:Robotseny
LOCATION:
METHOD:PUBLISH
X-WR-CALNAME:vallgorguina@vallgorguina.cat
X-WR-TIMEZONE:Europe/Madrid
DESCRIPTION:
URI:https://www.vallgorguina.cat/actualitat/agenda/robotseny.html
CLASS:PUBLIC
END:VEVENT
END:VCALENDAR
