BEGIN:VCALENDAR
VERSION:2.0
CALSCALE:GREGORIAN
PRODID:-//Diputació de Barcelona//DibaCMS//EN
BEGIN:VEVENT
UID:7315
DTSTAMP:20260423T120153
DTSTART:20180623T210000
DTEND:20180623T230000
SUMMARY:Revetlla de Sant Joan a Canadà Parc
LOCATION:
METHOD:PUBLISH
X-WR-CALNAME:vallgorguina@vallgorguina.cat
X-WR-TIMEZONE:Europe/Madrid
DESCRIPTION:
URI:https://www.vallgorguina.cat/actualitat/agenda/revetlla-de-sant-joan-a-canada-parc.html
CLASS:PUBLIC
END:VEVENT
END:VCALENDAR
