BEGIN:VCALENDAR
VERSION:2.0
CALSCALE:GREGORIAN
PRODID:-//Diputació de Barcelona//DibaCMS//EN
BEGIN:VEVENT
UID:7322
DTSTAMP:20260423T043757
DTSTART:20180707T180000
DTEND:20180707T200000
SUMMARY:Inauguració de la Ruta de la Tourdera
LOCATION:
METHOD:PUBLISH
X-WR-CALNAME:vallgorguina@vallgorguina.cat
X-WR-TIMEZONE:Europe/Madrid
DESCRIPTION:
URI:https://www.vallgorguina.cat/actualitat/agenda/inauguracio-de-la-ruta-de-la-tourdera.html
CLASS:PUBLIC
END:VEVENT
END:VCALENDAR
