BEGIN:VCALENDAR
VERSION:2.0
CALSCALE:GREGORIAN
PRODID:-//Diputació de Barcelona//DibaCMS//EN
BEGIN:VEVENT
UID:7326
DTSTAMP:20260423T115734
DTSTART:20180708T110000
DTEND:20180708T130000
SUMMARY:Jocs d'aigua a La Baronia
LOCATION:
METHOD:PUBLISH
X-WR-CALNAME:vallgorguina@vallgorguina.cat
X-WR-TIMEZONE:Europe/Madrid
DESCRIPTION:
URI:https://www.vallgorguina.cat/actualitat/agenda/jocs-daigua-a-la-baronia.html
CLASS:PUBLIC
END:VEVENT
END:VCALENDAR
