BEGIN:VCALENDAR
VERSION:2.0
CALSCALE:GREGORIAN
PRODID:-//Diputació de Barcelona//DibaCMS//EN
BEGIN:VEVENT
UID:733
DTSTAMP:20260423T024259
DTSTART:20171222T150000
DTEND:20171222T170000
SUMMARY:“Festa de Nadal” Escola bressol Avet blau
LOCATION:
METHOD:PUBLISH
X-WR-CALNAME:vallgorguina@vallgorguina.cat
X-WR-TIMEZONE:Europe/Madrid
DESCRIPTION:
URI:https://www.vallgorguina.cat/actualitat/agenda/festa-de-nadal-escola-bressol-avet-blau.html
CLASS:PUBLIC
END:VEVENT
END:VCALENDAR
