BEGIN:VCALENDAR
VERSION:2.0
CALSCALE:GREGORIAN
PRODID:-//Diputació de Barcelona//DibaCMS//EN
BEGIN:VEVENT
UID:7334
DTSTAMP:20260423T142303
DTSTART:20180707T200000
DTEND:20180707T230000
SUMMARY:Sardinada popular
LOCATION:
METHOD:PUBLISH
X-WR-CALNAME:vallgorguina@vallgorguina.cat
X-WR-TIMEZONE:Europe/Madrid
DESCRIPTION:Lloc definitiu: Poliesportiu

URI:https://www.vallgorguina.cat/actualitat/agenda/7334-sardinada-popular.html
CLASS:PUBLIC
END:VEVENT
END:VCALENDAR
